BEGIN:VCALENDAR
PRODID:-//eluceo/ical//2.0/EN
VERSION:2.0
CALSCALE:GREGORIAN
BEGIN:VEVENT
UID:6800e8bff4fa7a234fdcfb68ab5975a2
DTSTAMP:20260421T083546Z
SUMMARY:92 Street Y | "Discussion with Stars of Operation Finale"
DESCRIPTION:Jewish Federation of Reading Pa.\, Inc.\nCalendar\nhttps://read
 ingjewishcommunity.org/calendar/92y-discussion-with-stars-of-operation-fin
 ale\n\nMonday\, October 15\n\n2 p.m. at the Highlands\, Cultural Center\n\
 n2000 Cambridge Ave. Wyomissing\n\n"Discussion with Stars of Operation Fin
 ale"\n\n \n\nOpen to teens and adults!\n\n \n\nThe gripping new film "Op
 eration Finale" tells the story of the riveting capture of Nazi official 
 Adolf Eichmann-the first great mission of Israel's masterful spy network.\
 n\n \n\nJoin Academy Award winner Sir Ben Kingsley\, who stars as Adolph 
 Eichmann\, Joe Alwyn...
DTSTART;TZID=America/New_York:20181015T140000
DTEND;TZID=America/New_York:20181015T160000
END:VEVENT
END:VCALENDAR
