BEGIN:VCALENDAR
PRODID:-//eluceo/ical//2.0/EN
VERSION:2.0
CALSCALE:GREGORIAN
BEGIN:VEVENT
UID:e0865100250d3bdffa072ba4b3862eaa
DTSTAMP:20260420T090836Z
SUMMARY:Kesher Zion Community Minyan
DESCRIPTION:Jewish Federation of Reading Pa.\, Inc.\nCalendar\nhttps://read
 ingjewishcommunity.org/calendar/kesher-zion-community-minyan12182025\n\nPl
 ease help Kesher Zion make a minyan on the first and third Thursday of eac
 h month\, so those needing to say Kaddish are able to do so\n\nOpen to the
  entire Reading Jewish community\, all are welcome \n\n \n\n 
DTSTART;TZID=America/New_York:20251218T190000
DTEND;TZID=America/New_York:20251218T192000
END:VEVENT
END:VCALENDAR
