BEGIN:VCALENDAR
PRODID:-//eluceo/ical//2.0/EN
VERSION:2.0
CALSCALE:GREGORIAN
BEGIN:VEVENT
UID:28b601a59608dc1222cd5e4e1db09218
DTSTAMP:20260420T120721Z
SUMMARY:KZ Community Minyan
DESCRIPTION:Jewish Federation of Reading Pa.\, Inc.\nCalendar\nhttps://read
 ingjewishcommunity.org/calendar/kz-community-minyan12042025\n\nPlease help
  Kesher Zion make a minyan on the first and third Thursday of every month\
 , so those needing to say Kaddish are able to do so \n\nOpen to the entir
 e Reading Jewish Community \, all are welcome
DTSTART;TZID=America/New_York:20251204T190000
DTEND;TZID=America/New_York:20251204T192000
END:VEVENT
END:VCALENDAR
