BEGIN:VCALENDAR
PRODID:-//eluceo/ical//2.0/EN
VERSION:2.0
CALSCALE:GREGORIAN
BEGIN:VEVENT
UID:dbb64427dc5e6cc05640725719002b02
DTSTAMP:20260420T115712Z
SUMMARY:KZ Minyan
DESCRIPTION:Jewish Federation of Reading Pa.\, Inc.\nCalendar\nhttps://read
 ingjewishcommunity.org/calendar/kz-minyan04162026\n\nfor more information 
 email kesher zion at kesherzionoffice@gmail.com or call 610-374-1763
DTSTART;TZID=America/New_York:20260416T190000
DTEND;TZID=America/New_York:20260416T192000
END:VEVENT
END:VCALENDAR
