BEGIN:VCALENDAR
PRODID:-//eluceo/ical//2.0/EN
VERSION:2.0
CALSCALE:GREGORIAN
BEGIN:VEVENT
UID:dca145b3124ae31cf87e1b7de12ae59c
DTSTAMP:20260420T081212Z
SUMMARY:RCOS Musical Shabbat
DESCRIPTION:Jewish Federation of Reading Pa.\, Inc.\nCalendar\nhttps://read
 ingjewishcommunity.org/calendar/rcos-musical-shabbat121225\n\nMembers of T
 ach'shitim\, an acapella choir from Bet Mishpachach\, in Washington D.C. w
 ill be joining Cantor Binder for a beautiful evening of music. \n\nA spec
 ial membership committee oneg shabbat to follow 
DTSTART;TZID=America/New_York:20251212T190000
DTEND;TZID=America/New_York:20251212T210000
END:VEVENT
END:VCALENDAR
