BEGIN:VCALENDAR
PRODID:-//eluceo/ical//2.0/EN
VERSION:2.0
CALSCALE:GREGORIAN
BEGIN:VEVENT
UID:440a2494ec6f6b537fa9ae2bc70213e1
DTSTAMP:20260421T125349Z
SUMMARY:Yom HaAtzma’ut
DESCRIPTION:Jewish Federation of Reading Pa.\, Inc.\nCalendar\nhttps://read
 ingjewishcommunity.org/calendar/yom-haatzmaut2026-489033\n\n
DTSTART;TZID=America/New_York:20260422T000000
DTEND;TZID=America/New_York:20260422T235959
END:VEVENT
END:VCALENDAR
