BEGIN:VCALENDAR
PRODID:-//eluceo/ical//2.0/EN
VERSION:2.0
CALSCALE:GREGORIAN
BEGIN:VEVENT
UID:8a9ab5302397a879d343be03de203600
DTSTAMP:20260421T114228Z
SUMMARY:Yom HaZikaron
DESCRIPTION:Jewish Federation of Reading Pa.\, Inc.\nCalendar\nhttps://read
 ingjewishcommunity.org/calendar/yom-hazikaron2026-489031\n\n
DTSTART;TZID=America/New_York:20260421T000000
DTEND;TZID=America/New_York:20260421T235959
END:VEVENT
END:VCALENDAR
